BEGIN:VCALENDAR
VERSION:2.0
PRODID:-//Medley Pharmacy - ECPv6.15.20//NONSGML v1.0//EN
CALSCALE:GREGORIAN
METHOD:PUBLISH
X-ORIGINAL-URL:https://sinkspharmacy.com
X-WR-CALDESC:Events for Medley Pharmacy
REFRESH-INTERVAL;VALUE=DURATION:PT1H
X-Robots-Tag:noindex
X-PUBLISHED-TTL:PT1H
BEGIN:VTIMEZONE
TZID:UTC
BEGIN:STANDARD
TZOFFSETFROM:+0000
TZOFFSETTO:+0000
TZNAME:UTC
DTSTART:20170101T000000
END:STANDARD
END:VTIMEZONE
BEGIN:VEVENT
DTSTART;TZID=UTC:20181208T090000
DTEND;TZID=UTC:20181208T110000
DTSTAMP:20260421T143047
CREATED:20181120T044802Z
LAST-MODIFIED:20181120T045300Z
UID:1462-1544259600-1544266800@sinkspharmacy.com
SUMMARY:Sinks Pharmacy - Bourbon: Grand Re-Opening & Ribbon Cutting PLUS a visit from SANTA!
DESCRIPTION:Join us in celebrating the opening of our brand new building! Santa will even be there! Bring your camera and get a photo with Santa at no charge! Raffle for a large stocking filled with lots of toys\, ornament decorating\, free cookies and refreshments.
URL:https://sinkspharmacy.com/event/sinks-pharmacy-bourbon-grand-re-opening-ribbon-cutting/
LOCATION:Sinks Pharmacy – Bourbon\, 124 N. Old Hwy 66\, Bourbon\, 65441\, United States
END:VEVENT
BEGIN:VEVENT
DTSTART;TZID=UTC:20181208T113000
DTEND;TZID=UTC:20181208T133000
DTSTAMP:20260421T143047
CREATED:20181120T045127Z
LAST-MODIFIED:20181120T045127Z
UID:1465-1544268600-1544275800@sinkspharmacy.com
SUMMARY:Sinks Pharmacy - Sullivan: Come Visit SANTA!
DESCRIPTION:Join us for some fun with Santa! Enter our raffle for a large stocking filled with lots of toys\, free cooking and refreshments\, and ornament decorating. Bring your camera and take photos with Santa for no charge!
URL:https://sinkspharmacy.com/event/sinks-pharmacy-sullivan-come-visit-santa/
LOCATION:Sinks Pharmacy – Sullivan\, 153 E. Springfield Rd.\, Sullivan\, MO\, 63080\, United States
END:VEVENT
END:VCALENDAR