BEGIN:VCALENDAR
VERSION:2.0
PRODID:-//Medley Pharmacy - ECPv6.15.20//NONSGML v1.0//EN
CALSCALE:GREGORIAN
METHOD:PUBLISH
X-ORIGINAL-URL:https://sinkspharmacy.com
X-WR-CALDESC:Events for Medley Pharmacy
REFRESH-INTERVAL;VALUE=DURATION:PT1H
X-Robots-Tag:noindex
X-PUBLISHED-TTL:PT1H
BEGIN:VTIMEZONE
TZID:UTC
BEGIN:STANDARD
TZOFFSETFROM:+0000
TZOFFSETTO:+0000
TZNAME:UTC
DTSTART:20180101T000000
END:STANDARD
END:VTIMEZONE
BEGIN:VEVENT
DTSTART;TZID=UTC:20190624T090000
DTEND;TZID=UTC:20190624T140000
DTSTAMP:20260421T173116
CREATED:20190603T093325Z
LAST-MODIFIED:20190603T093325Z
UID:1698-1561366800-1561384800@sinkspharmacy.com
SUMMARY:Mammogram Van - Medley Pharmacy\, Owensville
DESCRIPTION:3D 2019 JUNE email flier
URL:https://sinkspharmacy.com/event/mammogram-van-medley-pharmacy-owensville/
LOCATION:Medley Pharmacy – Owensville\, 601 E. Hwy 28\, Owensville\, MO\, 65066
END:VEVENT
END:VCALENDAR