BEGIN:VCALENDAR
VERSION:2.0
PRODID:-//Medley Pharmacy - ECPv6.15.20//NONSGML v1.0//EN
CALSCALE:GREGORIAN
METHOD:PUBLISH
X-ORIGINAL-URL:https://sinkspharmacy.com
X-WR-CALDESC:Events for Medley Pharmacy
REFRESH-INTERVAL;VALUE=DURATION:PT1H
X-Robots-Tag:noindex
X-PUBLISHED-TTL:PT1H
BEGIN:VTIMEZONE
TZID:UTC
BEGIN:STANDARD
TZOFFSETFROM:+0000
TZOFFSETTO:+0000
TZNAME:UTC
DTSTART:20170101T000000
END:STANDARD
END:VTIMEZONE
BEGIN:VEVENT
DTSTART;TZID=UTC:20181023T090000
DTEND;TZID=UTC:20181023T163000
DTSTAMP:20260421T103059
CREATED:20180925T191913Z
LAST-MODIFIED:20180925T191913Z
UID:1397-1540285200-1540312200@sinkspharmacy.com
SUMMARY:Medicare Part D Patient Education Day - Sullivan
DESCRIPTION:Meet with a member of our staff to help you identify a plan that is right for you!
URL:https://sinkspharmacy.com/event/medicare-part-d-patient-education-day-sullivan/
LOCATION:Sinks Pharmacy – Sullivan\, 153 E. Springfield Rd.\, Sullivan\, MO\, 63080\, United States
END:VEVENT
BEGIN:VEVENT
DTSTART;TZID=UTC:20181024T090000
DTEND;TZID=UTC:20181024T163000
DTSTAMP:20260421T103059
CREATED:20180925T192932Z
LAST-MODIFIED:20180925T221639Z
UID:1401-1540371600-1540398600@sinkspharmacy.com
SUMMARY:Medicare Part D Patient Education Day - Bourbon
DESCRIPTION:Meet with a member of our staff to help you identify a plan that is right for you! 
URL:https://sinkspharmacy.com/event/medicare-part-d-patient-education-day/
LOCATION:Sinks Pharmacy – Bourbon\, 124 N. Old Hwy 66\, Bourbon\, 65441\, United States
END:VEVENT
BEGIN:VEVENT
DTSTART;TZID=UTC:20181024T110000
DTEND;TZID=UTC:20181024T140000
DTSTAMP:20260421T103059
CREATED:20181017T005102Z
LAST-MODIFIED:20181017T005425Z
UID:1443-1540378800-1540389600@sinkspharmacy.com
SUMMARY:40th Anniversary CELEBRATION - Medley Pharmacy\, Owensville
DESCRIPTION:CLICK HERE FOR FLYER
URL:https://sinkspharmacy.com/event/medley-pharmacy-owensville-40th-anniversary-celebration/
LOCATION:Medley Pharmacy – Owensville\, 601 E. Hwy 28\, Owensville\, MO\, 65066
END:VEVENT
END:VCALENDAR