BEGIN:VCALENDAR
VERSION:2.0
PRODID:-//Medley Pharmacy - ECPv6.15.20//NONSGML v1.0//EN
CALSCALE:GREGORIAN
METHOD:PUBLISH
X-ORIGINAL-URL:https://sinkspharmacy.com
X-WR-CALDESC:Events for Medley Pharmacy
REFRESH-INTERVAL;VALUE=DURATION:PT1H
X-Robots-Tag:noindex
X-PUBLISHED-TTL:PT1H
BEGIN:VTIMEZONE
TZID:UTC
BEGIN:STANDARD
TZOFFSETFROM:+0000
TZOFFSETTO:+0000
TZNAME:UTC
DTSTART:20170101T000000
END:STANDARD
END:VTIMEZONE
BEGIN:VEVENT
DTSTART;TZID=UTC:20181114T110000
DTEND;TZID=UTC:20181114T140000
DTSTAMP:20260421T114559
CREATED:20181017T005700Z
LAST-MODIFIED:20181017T005700Z
UID:1449-1542193200-1542204000@sinkspharmacy.com
SUMMARY:10th Anniversary CELEBRATION - Medley Pharmacy\, Gerald
DESCRIPTION:CLICK HERE FOR FLYER
URL:https://sinkspharmacy.com/event/10th-anniversary-celebration-medley-pharmacy-gerald/
LOCATION:Medley Pharmacy – Gerald\, 733 W. Springfield Rd.\, Gerald\, MO\, 63037\, United States
END:VEVENT
BEGIN:VEVENT
DTSTART;TZID=UTC:20181126T090000
DTEND;TZID=UTC:20181126T140000
DTSTAMP:20260421T114559
CREATED:20180518T032613Z
LAST-MODIFIED:20180518T033915Z
UID:1280-1543222800-1543240800@sinkspharmacy.com
SUMMARY:MoBap Mammography Van Visit - OWENSVILLE
DESCRIPTION:
URL:https://sinkspharmacy.com/event/mobap-mammography-van-visit-2/
LOCATION:Medley Pharmacy – Owensville\, 601 E. Hwy 28\, Owensville\, MO\, 65066
END:VEVENT
END:VCALENDAR